BEGIN:VCALENDAR
VERSION:2.0
PRODID:-//Libertarian Party of Duval County - ECPv6.1.3//NONSGML v1.0//EN
CALSCALE:GREGORIAN
METHOD:PUBLISH
X-ORIGINAL-URL:https://duval.lpf.org
X-WR-CALDESC:Events for Libertarian Party of Duval County
REFRESH-INTERVAL;VALUE=DURATION:PT1H
X-Robots-Tag:noindex
X-PUBLISHED-TTL:PT1H
BEGIN:VTIMEZONE
TZID:America/New_York
BEGIN:DAYLIGHT
TZOFFSETFROM:-0500
TZOFFSETTO:-0400
TZNAME:EDT
DTSTART:20230312T070000
END:DAYLIGHT
BEGIN:STANDARD
TZOFFSETFROM:-0400
TZOFFSETTO:-0500
TZNAME:EST
DTSTART:20231105T060000
END:STANDARD
END:VTIMEZONE
BEGIN:VEVENT
DTSTART;TZID=America/New_York:20230503T190000
DTEND;TZID=America/New_York:20230503T210000
DTSTAMP:20260421T105648
CREATED:20221222T173054Z
LAST-MODIFIED:20221222T173707Z
UID:881-1683140400-1683147600@duval.lpf.org
SUMMARY:Monthly Business Meeting
DESCRIPTION:Join us to discuss business affiliate matters.\nOur business meetings are open to anyone; however\, only registered Libertarians in Duval County may vote on or speak to any business matter. \nThen enjoy food\, drink and socializing after. \nHope to see you there! \nLet us know you’re attending on \nFacebook  \nMeetup
URL:https://duval.lpf.org/event/business-meeting-7/
CATEGORIES:Business
END:VEVENT
END:VCALENDAR